BEGIN:VCALENDAR
PRODID:-//DGFP//DGFP//DE
VERSION:2.0
CALSCALE:GREGORIAN
BEGIN:VEVENT
UID:76509ce0dfcf1ff2945dc1daa1fa6b78
DTSTAMP:20260421T101525Z
SUMMARY:Weiterbildung Future ManagerIn HR
DESCRIPTION:Wir freuen uns auf Sie! Bitte beachten Sie\, dass es sich bei d
 ieser Datei nur um eine Vormerktermin handelt und Sie sich noch zu unserer
  Veranstaltung anmelden müssen.
DTSTART:20260609T090000
DTEND:20260611T150000
LOCATION:\,  Berlin
BEGIN:VALARM
ACTION:DISPLAY
DESCRIPTION:Weiterbildung Future ManagerIn HR
TRIGGER:-PT10M
END:VALARM
END:VEVENT
END:VCALENDAR
