BEGIN:VCALENDAR
PRODID:-//DGFP//DGFP//DE
VERSION:2.0
CALSCALE:GREGORIAN
BEGIN:VEVENT
UID:285ff294c0a7d45bc990fee3128957a5
DTSTAMP:20260421T181047Z
SUMMARY:DGFP // Netzwerktreffen.digital Entlastungsprämie 2026: Steuerfrei
  1.000 € auszahlen -Umsetzung und Risiken für Arbeitgeber
DESCRIPTION:Wir freuen uns auf Sie! Bitte beachten Sie\, dass es sich bei d
 ieser Datei nur um eine Vormerktermin handelt und Sie sich noch zu unserer
  Veranstaltung anmelden müssen.
DTSTART:20260511T100000
DTEND:20260511T110000
LOCATION:\,  Online-Veranstaltung
BEGIN:VALARM
ACTION:DISPLAY
DESCRIPTION:DGFP // Netzwerktreffen.digital Entlastungsprämie 2026: Steuer
 frei 1.000 € auszahlen -Umsetzung und Risiken für Arbeitgeber
TRIGGER:-PT10M
END:VALARM
END:VEVENT
END:VCALENDAR
